
BEGIN:VCALENDAR
VERSION:2.0
PRODID:-//Hillside Community Church - ECPv6.15.20//NONSGML v1.0//EN
CALSCALE:GREGORIAN
METHOD:PUBLISH
X-WR-CALNAME:Hillside Community Church
X-ORIGINAL-URL:https://hillsidechurches.com
X-WR-CALDESC:Events for Hillside Community Church
REFRESH-INTERVAL;VALUE=DURATION:PT1H
X-Robots-Tag:noindex
X-PUBLISHED-TTL:PT1H
BEGIN:VTIMEZONE
TZID:America/Los_Angeles
BEGIN:DAYLIGHT
TZOFFSETFROM:-0800
TZOFFSETTO:-0700
TZNAME:PDT
DTSTART:20250309T100000
END:DAYLIGHT
BEGIN:STANDARD
TZOFFSETFROM:-0700
TZOFFSETTO:-0800
TZNAME:PST
DTSTART:20251102T090000
END:STANDARD
BEGIN:DAYLIGHT
TZOFFSETFROM:-0800
TZOFFSETTO:-0700
TZNAME:PDT
DTSTART:20260308T100000
END:DAYLIGHT
BEGIN:STANDARD
TZOFFSETFROM:-0700
TZOFFSETTO:-0800
TZNAME:PST
DTSTART:20261101T090000
END:STANDARD
BEGIN:DAYLIGHT
TZOFFSETFROM:-0800
TZOFFSETTO:-0700
TZNAME:PDT
DTSTART:20270314T100000
END:DAYLIGHT
BEGIN:STANDARD
TZOFFSETFROM:-0700
TZOFFSETTO:-0800
TZNAME:PST
DTSTART:20271107T090000
END:STANDARD
END:VTIMEZONE
BEGIN:VEVENT
DTSTART;TZID=America/Los_Angeles:20260510T083000
DTEND;TZID=America/Los_Angeles:20260510T093000
DTSTAMP:20260419T130511
CREATED:20250115T225329Z
LAST-MODIFIED:20260203T225314Z
UID:10005614-1778401800-1778405400@hillsidechurches.com
SUMMARY:Worship Gathering
DESCRIPTION:Join us for church on Sundays at 8:30 a.m. \, 10 a.m. \, 11:30 a.m. or 5 p.m. \nAll gatherings are available by livestream through Church Online\, a place to chat and pray live time with others viewing the gathering. \nNew to Hillside? Learn what to expect your first visit HERE. \nSundays Night Dinners\nCome to church and stay for dinner. Dinner service begins at 6 p.m. in the Hillside Cafe’\, just following the 5 p.m. gathering. Check out this week’s menu and pre-order  HERE.
URL:https://hillsidechurches.com/event/worship-gathering-3/2026-05-10/
LOCATION:Hillside Community Church\, 5354 Haven Avenue\, Rancho Cucamonga\, CA\, 91737\, United States
CATEGORIES:Adults
ORGANIZER;CN="Hillside Community Church":MAILTO:info@hillsiderancho.com
GEO:34.1572305;-117.5763839
X-APPLE-STRUCTURED-LOCATION;VALUE=URI;X-ADDRESS=Hillside Community Church 5354 Haven Avenue Rancho Cucamonga CA 91737 United States;X-APPLE-RADIUS=500;X-TITLE=5354 Haven Avenue:geo:-117.5763839,34.1572305
END:VEVENT
BEGIN:VEVENT
DTSTART;TZID=America/Los_Angeles:20260510T100000
DTEND;TZID=America/Los_Angeles:20260510T110000
DTSTAMP:20260419T130511
CREATED:20250115T224825Z
LAST-MODIFIED:20260203T225059Z
UID:10004570-1778407200-1778410800@hillsidechurches.com
SUMMARY:Worship Gathering
DESCRIPTION:Join us for church on Sundays at 8:30 a.m. \, 10 a.m. \, 11:30 a.m. or 5 p.m. \nAll gatherings are available by livestream through Church Online\, a place to chat and pray live time with others viewing the gathering. \nNew to Hillside? Learn what to expect your first visit HERE. \nSundays Night Dinners (Will Resume August 17th)\nCome to church and stay for dinner. Dinner service begins at 6 p.m. in the Hillside Cafe’\, just following the 5 p.m. gathering. Check out this week’s menu and pre-order  HERE.
URL:https://hillsidechurches.com/event/worship-gathering/2026-05-10/
LOCATION:Hillside Community Church\, 5354 Haven Avenue\, Rancho Cucamonga\, CA\, 91737\, United States
CATEGORIES:Adults
ORGANIZER;CN="Hillside Community Church":MAILTO:info@hillsiderancho.com
GEO:34.1572305;-117.5763839
X-APPLE-STRUCTURED-LOCATION;VALUE=URI;X-ADDRESS=Hillside Community Church 5354 Haven Avenue Rancho Cucamonga CA 91737 United States;X-APPLE-RADIUS=500;X-TITLE=5354 Haven Avenue:geo:-117.5763839,34.1572305
END:VEVENT
BEGIN:VEVENT
DTSTART;TZID=America/Los_Angeles:20260510T100000
DTEND;TZID=America/Los_Angeles:20260510T110000
DTSTAMP:20260419T130511
CREATED:20260311T213909Z
LAST-MODIFIED:20260311T213909Z
UID:10008140-1778407200-1778410800@hillsidechurches.com
SUMMARY:Next Steps: Week 2
DESCRIPTION:Looking for next steps in connecting with our church community at Hillside and learning more about Hillside?\nNext Steps is designed just for you! Join us on this fun\, interactive\, yet informative\, three week journey to get fast tracked into connecting with and learning about Hillside and the ministry opportunities we offer. \nWe will meet from 10:00 -11:00 am in the Room 114 on the following dates: \n\nMay 3\nMay 10\nMay 17\n\nDon’t miss this chance to take your next step—meet great people\, discover your purpose\, and find your place at Hillside. Click REGISTER below to save your spot! \nREGISTER
URL:https://hillsidechurches.com/event/next-steps-week-2/
LOCATION:Hillside Community Church\, 5354 Haven Avenue\, Rancho Cucamonga\, CA\, 91737\, United States
CATEGORIES:Classes
ATTACH;FMTTYPE=image/jpeg:https://hillsidechurches.com/wp-content/uploads/2022/12/NextStepsWeb.jpg
ORGANIZER;CN="Hillside Community Church":MAILTO:info@hillsiderancho.com
GEO:34.1572305;-117.5763839
X-APPLE-STRUCTURED-LOCATION;VALUE=URI;X-ADDRESS=Hillside Community Church 5354 Haven Avenue Rancho Cucamonga CA 91737 United States;X-APPLE-RADIUS=500;X-TITLE=5354 Haven Avenue:geo:-117.5763839,34.1572305
END:VEVENT
BEGIN:VEVENT
DTSTART;TZID=America/Los_Angeles:20260510T113000
DTEND;TZID=America/Los_Angeles:20260510T123000
DTSTAMP:20260419T130511
CREATED:20250115T225055Z
LAST-MODIFIED:20260203T225252Z
UID:10005092-1778412600-1778416200@hillsidechurches.com
SUMMARY:Worship Gathering
DESCRIPTION:Join us for church on Sundays at 8:30 a.m. \, 10 a.m. \, 11:30 a.m. or 5 p.m. \nAll gatherings are available by livestream through Church Online\, a place to chat and pray live time with others viewing the gathering. \nNew to Hillside? Learn what to expect your first visit HERE. \nSundays Night Dinners (Will Resume August 17th)\nCome to church and stay for dinner. Dinner service begins at 6 p.m. in the Hillside Cafe’\, just following the 5 p.m. gathering. Check out this week’s menu and pre-order  HERE.
URL:https://hillsidechurches.com/event/worship-gathering-2/2026-05-10/
LOCATION:Hillside Community Church\, 5354 Haven Avenue\, Rancho Cucamonga\, CA\, 91737\, United States
CATEGORIES:Adults
ORGANIZER;CN="Hillside Community Church":MAILTO:info@hillsiderancho.com
GEO:34.1572305;-117.5763839
X-APPLE-STRUCTURED-LOCATION;VALUE=URI;X-ADDRESS=Hillside Community Church 5354 Haven Avenue Rancho Cucamonga CA 91737 United States;X-APPLE-RADIUS=500;X-TITLE=5354 Haven Avenue:geo:-117.5763839,34.1572305
END:VEVENT
BEGIN:VEVENT
DTSTART;TZID=America/Los_Angeles:20260510T170000
DTEND;TZID=America/Los_Angeles:20260510T183000
DTSTAMP:20260419T130511
CREATED:20250811T180541Z
LAST-MODIFIED:20260203T224919Z
UID:10006949-1778432400-1778437800@hillsidechurches.com
SUMMARY:Worship Gathering
DESCRIPTION:Join us for church on Sundays at 8:30 a.m. \, 10 a.m. \, 11:30 a.m. or 5 p.m. \nAll gatherings are available by livestream through Church Online\, a place to chat and pray live time with others viewing the gathering. \nNew to Hillside? Learn what to expect your first visit HERE. \nSundays Night Dinners\nCome to church and stay for dinner. Dinner service begins at 6 p.m. in the Hillside Cafe’\, just following the 5 p.m. gathering. Check out this week’s menu and pre-order  HERE.
URL:https://hillsidechurches.com/event/worship-gathering-5/2026-05-10/
LOCATION:Hillside Community Church\, 5354 Haven Avenue\, Rancho Cucamonga\, CA\, 91737\, United States
CATEGORIES:Adults
ORGANIZER;CN="Hillside Community Church":MAILTO:info@hillsiderancho.com
GEO:34.1572305;-117.5763839
X-APPLE-STRUCTURED-LOCATION;VALUE=URI;X-ADDRESS=Hillside Community Church 5354 Haven Avenue Rancho Cucamonga CA 91737 United States;X-APPLE-RADIUS=500;X-TITLE=5354 Haven Avenue:geo:-117.5763839,34.1572305
END:VEVENT
BEGIN:VEVENT
DTSTART;TZID=America/Los_Angeles:20260511T183000
DTEND;TZID=America/Los_Angeles:20260511T203000
DTSTAMP:20260419T130511
CREATED:20260105T054844Z
LAST-MODIFIED:20260105T055732Z
UID:10007933-1778524200-1778531400@hillsidechurches.com
SUMMARY:GriefShare
DESCRIPTION:GriefShare is a group for people grieving the loss of a loved one. Whether your loss is recent or you’ve carried it for a while\, this group can be a healthy part of your healing process. \nRegister
URL:https://hillsidechurches.com/event/griefshare/2026-05-11/
LOCATION:Hillside Community Church\, 5354 Haven Avenue\, Rancho Cucamonga\, CA\, 91737\, United States
CATEGORIES:Care,Groups
ORGANIZER;CN="Hillside Community Church":MAILTO:info@hillsiderancho.com
GEO:34.1572305;-117.5763839
X-APPLE-STRUCTURED-LOCATION;VALUE=URI;X-ADDRESS=Hillside Community Church 5354 Haven Avenue Rancho Cucamonga CA 91737 United States;X-APPLE-RADIUS=500;X-TITLE=5354 Haven Avenue:geo:-117.5763839,34.1572305
END:VEVENT
BEGIN:VEVENT
DTSTART;TZID=America/Los_Angeles:20260511T193000
DTEND;TZID=America/Los_Angeles:20260511T210000
DTSTAMP:20260419T130511
CREATED:20251028T211850Z
LAST-MODIFIED:20260205T221400Z
UID:10007381-1778527800-1778533200@hillsidechurches.com
SUMMARY:Young Adults Gathering
DESCRIPTION:Young Adults Ministry at Hillside Community Church is a weekly space to worship\, grow\, and build meaningful relationships. We gather in two specific ways throughout each month: \n1st Monday – Large Group Gathering\nA large-group gathering of extended worship\, teaching\, and community. \nAll Other Mondays – On Campus Small Group Gathering\nSmall-group–style gatherings with live hosting\, coffee & snacks\, worship\, and trained table leaders. These nights are built for consistent\, relational connection rooted in Scripture and intentional discipleship alongside one another. \nArrive Early for Community\nLooking for extra time to connect? 7:00–7:30 p.m. is our social! Arrive early to hang out with friends\, grab a cup of coffee\, or meet someone new. \n 
URL:https://hillsidechurches.com/event/young-adults-gathering/2026-05-11/
LOCATION:Hillside Community Church\, 5354 Haven Avenue\, Rancho Cucamonga\, CA\, 91737\, United States
CATEGORIES:Young Adults
ATTACH;FMTTYPE=image/jpeg:https://hillsidechurches.com/wp-content/uploads/2022/11/YAM_WelcomeSlide.jpg
ORGANIZER;CN="Hillside Community Church":MAILTO:info@hillsiderancho.com
GEO:34.1572305;-117.5763839
X-APPLE-STRUCTURED-LOCATION;VALUE=URI;X-ADDRESS=Hillside Community Church 5354 Haven Avenue Rancho Cucamonga CA 91737 United States;X-APPLE-RADIUS=500;X-TITLE=5354 Haven Avenue:geo:-117.5763839,34.1572305
END:VEVENT
BEGIN:VEVENT
DTSTART;TZID=America/Los_Angeles:20260512T190000
DTEND;TZID=America/Los_Angeles:20260512T210000
DTSTAMP:20260419T130511
CREATED:20251028T174351Z
LAST-MODIFIED:20251028T174351Z
UID:10007310-1778612400-1778619600@hillsidechurches.com
SUMMARY:Celebrate Recovery
DESCRIPTION:A faith-based 12-step program designed to help you navigate hurts\, habits and hang ups. We meet all year long. Join us now and get started on the path to recovery with others who are finding healing in Jesus. Meets every Tuesday from 7:00 – 9:00 pm in the Fireside West (room 112). \nSign Up
URL:https://hillsidechurches.com/event/celebrate-recovery/2026-05-12/
LOCATION:Hillside Community Church\, 5354 Haven Avenue\, Rancho Cucamonga\, CA\, 91737\, United States
CATEGORIES:Care,Groups
ORGANIZER;CN="Hillside Community Church":MAILTO:info@hillsiderancho.com
GEO:34.1572305;-117.5763839
X-APPLE-STRUCTURED-LOCATION;VALUE=URI;X-ADDRESS=Hillside Community Church 5354 Haven Avenue Rancho Cucamonga CA 91737 United States;X-APPLE-RADIUS=500;X-TITLE=5354 Haven Avenue:geo:-117.5763839,34.1572305
END:VEVENT
BEGIN:VEVENT
DTSTART;TZID=America/Los_Angeles:20260513T183000
DTEND;TZID=America/Los_Angeles:20260513T200000
DTSTAMP:20260419T130511
CREATED:20260311T215842Z
LAST-MODIFIED:20260409T163957Z
UID:10008145-1778697000-1778702400@hillsidechurches.com
SUMMARY:Helping Kids With Loss
DESCRIPTION:When kids experience loss\, adults often do not know how to talk to them about death\, dying and their feelings after a loss. This seminar is for adults to learn how to talk to and support kids through the grief process. \nIn Fireside West Room 112\nBabysitting – The cost for childcare is $10 per family. The registration link will be coming soon. \nRegister
URL:https://hillsidechurches.com/event/helping-kids-with-loss/
LOCATION:Hillside Community Church\, 5354 Haven Avenue\, Rancho Cucamonga\, CA\, 91737\, United States
CATEGORIES:Care,Classes
ATTACH;FMTTYPE=image/png:https://hillsidechurches.com/wp-content/uploads/2026/03/medium_image-1761178899866.png
ORGANIZER;CN="Hillside Community Church":MAILTO:info@hillsiderancho.com
GEO:34.1572305;-117.5763839
X-APPLE-STRUCTURED-LOCATION;VALUE=URI;X-ADDRESS=Hillside Community Church 5354 Haven Avenue Rancho Cucamonga CA 91737 United States;X-APPLE-RADIUS=500;X-TITLE=5354 Haven Avenue:geo:-117.5763839,34.1572305
END:VEVENT
BEGIN:VEVENT
DTSTART;TZID=America/Los_Angeles:20260513T183000
DTEND;TZID=America/Los_Angeles:20260513T203000
DTSTAMP:20260419T130511
CREATED:20251124T170541Z
LAST-MODIFIED:20251124T170541Z
UID:10007547-1778697000-1778704200@hillsidechurches.com
SUMMARY:Junior High Worship Gathering
DESCRIPTION:A space for worship\, Biblical teaching\, and community for students. \nWednesday nights from 6:30pm – 8:30pm in the Community Center \nLearn More About Student Ministry
URL:https://hillsidechurches.com/event/junior-high-worship-gathering/2026-05-13/
LOCATION:Hillside Community Church\, 5354 Haven Avenue\, Rancho Cucamonga\, CA\, 91737\, United States
CATEGORIES:Junior High
ATTACH;FMTTYPE=image/png:https://hillsidechurches.com/wp-content/uploads/2024/02/1.png
ORGANIZER;CN="Hillside Community Church":MAILTO:info@hillsiderancho.com
GEO:34.1572305;-117.5763839
X-APPLE-STRUCTURED-LOCATION;VALUE=URI;X-ADDRESS=Hillside Community Church 5354 Haven Avenue Rancho Cucamonga CA 91737 United States;X-APPLE-RADIUS=500;X-TITLE=5354 Haven Avenue:geo:-117.5763839,34.1572305
END:VEVENT
BEGIN:VEVENT
DTSTART;TZID=America/Los_Angeles:20260516T080000
DTEND;TZID=America/Los_Angeles:20260516T150000
DTSTAMP:20260419T130511
CREATED:20260205T225259Z
LAST-MODIFIED:20260205T225259Z
UID:10008095-1778918400-1778943600@hillsidechurches.com
SUMMARY:Habitat for Humanity Build
DESCRIPTION:Serve with Hillside at Habitat for Humanity \nJoin us as we partner with the San Gabriel Valley Habitat for Humanity to serve families in need through a local building project in Altadena. This is a hands-on opportunity to be the light of Jesus as we work alongside our Hillside family and support a meaningful cause. \nNo construction experience is needed—there are many ways to help\, including painting\, landscaping\, and providing support for the build team. Come with a willing heart and be ready to learn something new (and have a little fun along the way). \nAfter registering in the Church app\, you’ll receive an email with a link to complete Habitat for Humanity’s required registration and waiver. Your registration is not complete until this step is finished. \nThis serve day is open to those 16 years and older. Minors must have a guardian present on the day of the build. \nCarpool available. Lunch provided. \nMarch 14\,2026 from 8am-3pm \nRegister
URL:https://hillsidechurches.com/event/habitat-for-humanity-build/
LOCATION:Hillside Community Church\, 5354 Haven Avenue\, Rancho Cucamonga\, CA\, 91737\, United States
CATEGORIES:Adults,Serve the City
ATTACH;FMTTYPE=image/png:https://hillsidechurches.com/wp-content/uploads/2026/02/Screenshot-2026-02-05-at-2.50.15-PM.png
ORGANIZER;CN="Hillside Community Church":MAILTO:info@hillsiderancho.com
GEO:34.1572305;-117.5763839
X-APPLE-STRUCTURED-LOCATION;VALUE=URI;X-ADDRESS=Hillside Community Church 5354 Haven Avenue Rancho Cucamonga CA 91737 United States;X-APPLE-RADIUS=500;X-TITLE=5354 Haven Avenue:geo:-117.5763839,34.1572305
END:VEVENT
END:VCALENDAR